BEGIN:VCALENDAR
VERSION:2.0
PRODID:-//wp-events-plugin.com//7.2.3.1//EN
TZID:Europe/Luxembourg
X-WR-TIMEZONE:Europe/Luxembourg
BEGIN:VEVENT
UID:445@apis.lu
DTSTART;TZID=Europe/Luxembourg:20240507T193000
DTEND;TZID=Europe/Luxembourg:20240507T213000
DTSTAMP:20240507T070323Z
URL:https://apis.lu/events/vortrag-arbeitspakete-aufbauend-auf-den-grundla
 gen-der-varroaresistenzzucht/
SUMMARY:Vortrag: Arbeitspakete aufbauend auf den Grundlagen der Varroaresis
 tenzzucht
DESCRIPTION:Liebe Zuchtgruppen\, ZüchterInnen und Zuchtinteressierte\, wie
  angekündigt möchten wir euch einen Rahmen zum Austausch unter den Grupp
 en auch während der Saison bieten.\n\nWir starten am *kommenden Dienstag 
 (07.05.2024)*\, mit dem ersten unserer drei geplanten Meetings.\nPaul Jung
 els hält einen Vortrag zum Thema „Arbeitspakete eines Resistenzzuchtpro
 grammes“. Anschließend ist Zeit für Fragen und Diskussion.\n\n*Los geh
 t’s um 19:30 Uhr. *\n\nLink zum Zoom-Meeting:\nhttps://us06web.zoom.us/j
 /82654204128?pwd=aPgPwx8CxIPf2p4yBdEbcfbifswtwf.1\n\nMeeting-ID: 826 5420 
 4128\nKenncode: 354830\n\nBei Fragen gerne melden.\n\nBeste Grüße\nMarie
  & das Team Öffentlichkeitsarbeit Varroaresistenz 2033\n
ATTACH;FMTTYPE=image/jpeg:https://apis.lu/wp-content/uploads/2023/01/Biene
 nvolk-in-voller-Entwicklung--scaled.jpg
CATEGORIES:Zuchtgruppe
LOCATION:https://us06web.zoom.us/j/82654204128?pwd=aPgPwx8CxIPf2p4yBdEbcfbi
 fswtwf.1
END:VEVENT
BEGIN:VTIMEZONE
TZID:Europe/Luxembourg
X-LIC-LOCATION:Europe/Luxembourg
BEGIN:DAYLIGHT
DTSTART:20240331T030000
TZOFFSETFROM:+0100
TZOFFSETTO:+0200
TZNAME:CEST
END:DAYLIGHT
END:VTIMEZONE
END:VCALENDAR