BEGIN:VCALENDAR
VERSION:2.0
PRODID:-//wp-events-plugin.com//7.2.3.1//EN
TZID:Europe/Luxembourg
X-WR-TIMEZONE:Europe/Luxembourg
BEGIN:VEVENT
UID:121@apis.lu
DTSTART:20220822T160000Z
DTEND:20220822T170000Z
DTSTAMP:20220816T100455Z
URL:https://apis.lu/events/verteilung-der-varroamittel-2/
SUMMARY:Verteilung der Varroamittel II
DESCRIPTION:E Méinden 22ten August vun 18.00 bis 19.00 Auer bidden mir nac
 h eng weider Méiglechkeet un fir aer Varroamëttel an d'Holdaer sichen ze
  kommen. Wann Dir do net disponibel sidd\, organiséiert Iech wgl dat een 
 Iech aer Mëttel mathuelen/sichen kommen kann.\n\nD'Rechnung kënnt dir pe
 r Virement op eisen Konto CCPL LU08 1111 0409 6733 0000 iwwerweisen oder e
  Méinden op der Plaatz per Digicash beglaichen. Aus prakteschen Grënn hu
 elen keen Borgeld mi op der Plaatz un.\n\nMir weisen auch ausrécklech dro
 p hin dat dir aer Rechnung bezuelen musst\, och wann dir d'Mëttel mëttle
 rweil net mi braucht oder se eventuell net sichen kommt.
CATEGORIES:Diekirch
LOCATION:Bienenstand Holdär\, Parkplatz Fridhaff\, Friedhaff\, 9360\, Luxe
 mburg
X-APPLE-STRUCTURED-LOCATION;VALUE=URI;X-ADDRESS=Parkplatz Fridhaff\, Friedh
 aff\, 9360\, Luxemburg;X-APPLE-RADIUS=100;X-TITLE=Bienenstand Holdär:geo:
 0,0
END:VEVENT
END:VCALENDAR