BEGIN:VCALENDAR
VERSION:2.0
PRODID:-//wp-events-plugin.com//7.2.3.1//EN
TZID:Europe/Luxembourg
X-WR-TIMEZONE:Europe/Luxembourg
BEGIN:VEVENT
UID:497@apis.lu
DTSTART:20250405T100000Z
DTEND:20250405T130000Z
DTSTAMP:20250317T085822Z
URL:https://apis.lu/events/theoretical-beekeepers-cours-2025-2/
SUMMARY:Theoretical beekeepers Cours 2025
DESCRIPTION:beekeepers tools and equipment
ATTACH;FMTTYPE=image/jpeg:https://apis.lu/wp-content/uploads/2022/03/fual-
 logo.svg
CATEGORIES:FUAL
LOCATION:Beienhaff\, 14\, Wantergaass\, Reuland\, 7670\, Luxemburg
X-APPLE-STRUCTURED-LOCATION;VALUE=URI;X-ADDRESS=14\, Wantergaass\, Reuland\
 , 7670\, Luxemburg;X-APPLE-RADIUS=100;X-TITLE=Beienhaff:geo:0,0
END:VEVENT
END:VCALENDAR