BEGIN:VCALENDAR
VERSION:2.0
PRODID:-//wp-events-plugin.com//7.2.3.1//EN
TZID:Europe/Luxembourg
X-WR-TIMEZONE:Europe/Luxembourg
BEGIN:VEVENT
UID:328@apis.lu
DTSTART;TZID=Europe/Luxembourg:20240427T090000
DTEND;TZID=Europe/Luxembourg:20240427T113000
DTSTAMP:20240219T105505Z
URL:https://apis.lu/events/seminar-2-bienen-anders-gesehen-artgerechte-bie
 nenhaltung-mit-naturwaben/
SUMMARY:Seminar 2: Bienen anders gesehen ... Artgerechte Bienenhaltung mit 
 Naturwaben
DESCRIPTION:\n 	Die Brutentwicklung auf Naturwabenbau\n\n\n 	Die Bedeutung 
 für die Gesundheit des Bienenvolkes\n 	Die natürliche Entwicklung der Br
 ut auf Naturwabenbau\n 	Mit Rähmchen ohne untere Holzleiste\n 	Drohnenbau
 \n 	Verständigung im Bienenstaat auf Naturbrutwaben\n\n\n 	Verschiedene B
 ienenbehausungen\n\n\n 	Klotzbeuten\n 	Einraumbeuten\n 	Die Oberträgerbeu
 te „Top-bar-hive“\n 	Bienen in Strohbeuten\n\n\n 	Der Wärmehaushalt u
 nd die Thermoreglung im „Bien“\n\n\n 	Die Bedeutung für die Gesundhei
 t des Bienenvolkes\n 	Das Gesetz der gassenweisen Nestduftwärmebindung\n\
 n\n 	Vermehrung in der artgerechten und bienengemässen Bienenhaltung\n\n\
 n 	Die natürliche Vermehrung eine Voraussetzung für gesunde Vitalität\n
  	Die natürliche Vermehrung über den Schwarmtrieb\n 	Verwertung der Schw
 armzellen\n 	Die Vorwegnahme des Schwarmes\n 	Ableger und Kunstschwarmbild
 ung\n 	Vermehrung in der Dreiraumbeute\n\n\n 	Honig aus Naturwaben\, Auspr
 essen \, Schleudern\n\n\n 	Referent: Collette Michel\n 	Organisation: Cerc
 le Apicole Rédange\, Vereenegung fir Biolandwirtschaft Lëtzebuerg a.s.b.
 l. &amp\; SNJ Hollenfels\n 	apisredange.lu www.biovereenegung.lu\n\n\n 	Un
 kostenbeitrag 20 € \n\nAnmeldung bis 20. April an beiemich@pt.lu oder Te
 l: 621 190 017 oder 83 85 88\n\nDie Teilnehmerzahl ist auf 30 Personen beg
 renzt
ATTACH;FMTTYPE=image/jpeg:https://apis.lu/wp-content/uploads/2024/02/Logo-
 Redange.jpg
CATEGORIES:Praktesch Cours,Redange
LOCATION:Lehrbienenstand Hollenfels\, Rue d'Ansembourg\, Hollenfels\, 7435\
 , Luxemburg
X-APPLE-STRUCTURED-LOCATION;VALUE=URI;X-ADDRESS=Rue d'Ansembourg\, Hollenfe
 ls\, 7435\, Luxemburg;X-APPLE-RADIUS=100;X-TITLE=Lehrbienenstand Hollenfel
 s:geo:0,0
END:VEVENT
BEGIN:VTIMEZONE
TZID:Europe/Luxembourg
X-LIC-LOCATION:Europe/Luxembourg
BEGIN:DAYLIGHT
DTSTART:20240331T030000
TZOFFSETFROM:+0100
TZOFFSETTO:+0200
TZNAME:CEST
END:DAYLIGHT
END:VTIMEZONE
END:VCALENDAR