BEGIN:VCALENDAR
VERSION:2.0
PRODID:-//wp-events-plugin.com//7.2.3.1//EN
TZID:Europe/Luxembourg
X-WR-TIMEZONE:Europe/Luxembourg
BEGIN:VEVENT
UID:89@apis.lu
DTSTART:20220516T180000Z
DTEND:20220516T200000Z
DTSTAMP:20220425T082948Z
URL:https://apis.lu/events/praktischer-kurs-53/
SUMMARY:Praktischer Kurs
DESCRIPTION:
CATEGORIES:Diekirch,Praktesch Cours
LOCATION:Bienenstand Holdär\, Parkplatz Fridhaff\, Friedhaff\, 9360\, Luxe
 mburg
X-APPLE-STRUCTURED-LOCATION;VALUE=URI;X-ADDRESS=Parkplatz Fridhaff\, Friedh
 aff\, 9360\, Luxemburg;X-APPLE-RADIUS=100;X-TITLE=Bienenstand Holdär:geo:
 0,0
END:VEVENT
END:VCALENDAR