BEGIN:VCALENDAR
VERSION:2.0
PRODID:-//wp-events-plugin.com//7.2.3.1//EN
TZID:Europe/Luxembourg
X-WR-TIMEZONE:Europe/Luxembourg
BEGIN:VEVENT
UID:37@apis.lu
DTSTART:20220712T173000Z
DTEND:20220712T193000Z
DTSTAMP:20220420T132012Z
URL:https://apis.lu/events/praktischer-kurs-15/
SUMMARY:Praktischer Kurs
DESCRIPTION:Auffütterung nach Abräumen
CATEGORIES:Clervaux,Praktesch Cours
LOCATION:Bienenstand Eselborn\, rue Knupp\, Clervaux\, 9706\, Luxemburg
X-APPLE-STRUCTURED-LOCATION;VALUE=URI;X-ADDRESS=rue Knupp\, Clervaux\, 9706
 \, Luxemburg;X-APPLE-RADIUS=100;X-TITLE=Bienenstand Eselborn:geo:0,0
END:VEVENT
END:VCALENDAR