BEGIN:VCALENDAR
VERSION:2.0
PRODID:-//wp-events-plugin.com//7.2.3.1//EN
TZID:Europe/Luxembourg
X-WR-TIMEZONE:Europe/Luxembourg
BEGIN:VEVENT
UID:324@apis.lu
DTSTART;TZID=Europe/Luxembourg:20240518T140000
DTEND;TZID=Europe/Luxembourg:20240518T160000
DTSTAMP:20240510T060215Z
URL:https://apis.lu/events/praktesche-cours-summerbehandlung-geint-varroa/
SUMMARY:Gemütlicher Nachmittag mit Grillen auf dem Bienenstand
DESCRIPTION:Bienenberater Andreas Reichart justiert Ihren mitgebrachten Ref
 raktometer. Wichtig\, daß nur trockener Honig geschleudert wird.\n\nJeanp
 aul und Nico zeigen wie umgelarvrt wird und erstellen einen Brutableger.\n
 \nAnschließend ist für das leibliche Wohl gesorgt.\n\nAnmeldungen\, unbe
 dingt aus organisatorischen Gründen (mit Anzahl der Teilnehmer) sind zu r
 ichten an Charles Witry bis spätestens Dienstag 14. Mai per Mail.\n\nUm u
 nsere Vereinskasse nicht übermäßig zu belasten ist ein Unkostenbeitrag 
 von 10 € (nicht überweisen) vorgesehen.
ATTACH;FMTTYPE=image/jpeg:https://apis.lu/wp-content/uploads/2023/01/Logo_
 KV_Miersch.png
CATEGORIES:Mersch,Praktesch Cours
LOCATION:Bienenstand Blaschette\, Rue de Wormeldange\, Blaschette (Lorenzwe
 iler)\, 7390\, Luxemburg
X-APPLE-STRUCTURED-LOCATION;VALUE=URI;X-ADDRESS=Rue de Wormeldange\, Blasch
 ette (Lorenzweiler)\, 7390\, Luxemburg;X-APPLE-RADIUS=100;X-TITLE=Bienenst
 and Blaschette:geo:0,0
END:VEVENT
BEGIN:VTIMEZONE
TZID:Europe/Luxembourg
X-LIC-LOCATION:Europe/Luxembourg
BEGIN:DAYLIGHT
DTSTART:20240331T030000
TZOFFSETFROM:+0100
TZOFFSETTO:+0200
TZNAME:CEST
END:DAYLIGHT
END:VTIMEZONE
END:VCALENDAR