BEGIN:VCALENDAR
VERSION:2.0
PRODID:-//wp-events-plugin.com//7.2.3.1//EN
TZID:Europe/Luxembourg
X-WR-TIMEZONE:Europe/Luxembourg
BEGIN:VEVENT
UID:606@apis.lu
DTSTART;TZID=Europe/Luxembourg:20251220T140000
DTEND;TZID=Europe/Luxembourg:20251220T160000
DTSTAMP:20251207T102857Z
URL:https://apis.lu/events/praktesche-cours-oxalsaiertraitement-3/
SUMMARY:Praktesche Cours: Oxalsaiertraitement
DESCRIPTION:No engem flotten Chrëschtmaart zu Miersch hu mer elo eis lesch
 t Veranstaltung fir dëst Joer mam Beieberoder Andreas Reichart fir d‘Ox
 alsäierbehandlung. \nAls Ofschloss zerwéieren mer e Glühwäin fir d
 ‘Joer 2025 ofzeschléissen. \n
ATTACH;FMTTYPE=image/jpeg:https://apis.lu/wp-content/uploads/2023/01/Logo_
 KV_Miersch.png
CATEGORIES:Mersch,Praktesch Cours
LOCATION:Bienenstand Blaschette\, Rue de Wormeldange\, Blaschette (Lorenzwe
 iler)\, 7390\, Luxemburg
X-APPLE-STRUCTURED-LOCATION;VALUE=URI;X-ADDRESS=Rue de Wormeldange\, Blasch
 ette (Lorenzweiler)\, 7390\, Luxemburg;X-APPLE-RADIUS=100;X-TITLE=Bienenst
 and Blaschette:geo:0,0
END:VEVENT
BEGIN:VTIMEZONE
TZID:Europe/Luxembourg
X-LIC-LOCATION:Europe/Luxembourg
BEGIN:STANDARD
DTSTART:20251026T020000
TZOFFSETFROM:+0200
TZOFFSETTO:+0100
TZNAME:CET
END:STANDARD
END:VTIMEZONE
END:VCALENDAR