BEGIN:VCALENDAR
VERSION:2.0
PRODID:-//wp-events-plugin.com//7.2.3.1//EN
TZID:Europe/Luxembourg
X-WR-TIMEZONE:Europe/Luxembourg
BEGIN:VEVENT
UID:122@apis.lu
DTSTART:20220912T160000Z
DTEND:20220912T173000Z
DTSTAMP:20220909T165140Z
URL:https://apis.lu/events/praktesche-cours-mam-beieberoder/
SUMMARY:Praktesche Cours mam Beieberoder
DESCRIPTION:Mir kontrolléiren d'Fudderrreserven an den Varroabefall eng le
 schte Kéier\, d.h. di zwee wichteg Sujet'n fir gudd duerch den Wanter ze 
 kommen.
CATEGORIES:Diekirch,Praktesch Cours
LOCATION:Bienenstand Holdär\, Parkplatz Fridhaff\, Friedhaff\, 9360\, Luxe
 mburg
X-APPLE-STRUCTURED-LOCATION;VALUE=URI;X-ADDRESS=Parkplatz Fridhaff\, Friedh
 aff\, 9360\, Luxemburg;X-APPLE-RADIUS=100;X-TITLE=Bienenstand Holdär:geo:
 0,0
END:VEVENT
END:VCALENDAR