BEGIN:VCALENDAR
VERSION:2.0
PRODID:-//wp-events-plugin.com//7.2.3.1//EN
TZID:Europe/Luxembourg
X-WR-TIMEZONE:Europe/Luxembourg
BEGIN:VEVENT
UID:495@apis.lu
DTSTART:20250404T170000Z
DTEND:20250404T193000Z
DTSTAMP:20250224T103314Z
URL:https://apis.lu/events/ordentliche-generalversammlung-des-landwirtscha
 ftlichen-vereins-letzebuerger-hunneg-2/
SUMMARY:Ordentliche Generalversammlung des landwirtschaftlichen Vereins „
 Lëtzebuerger Hunneg“
DESCRIPTION:Tagesordnung:\n\n•	Begrüßung\n•	Jahres- und Kassenbericht
 \n•	Vorstands- und Aufsichtsratswahlen\n•	Marque Nationale Lëtzebuerg
 er Hunneg\n•	Ausblick und Verschiedenes\n\nWir freuen uns auf zahlreiche
 s Erscheinen!\n\nFür den Vorstand\,\n\nGlodé Jeannot\,   Präsident     
 		            	Reiser Claudine\, Sekretärin\n\nℹ️ Weitere Information
 en unter: www.hunneg.lu\n
ATTACH;FMTTYPE=image/jpeg:https://apis.lu/wp-content/uploads/2024/02/Logo_
 Honiggenossenschaft.png
CATEGORIES:Assemblée generale,Honiggenossenschaft
LOCATION:Restaurant A Guddesch\, 1\, am Kaesch\, Beringen\, 7593\, Luxembur
 g
X-APPLE-STRUCTURED-LOCATION;VALUE=URI;X-ADDRESS=1\, am Kaesch\, Beringen\, 
 7593\, Luxemburg;X-APPLE-RADIUS=100;X-TITLE=Restaurant A Guddesch:geo:0,0
END:VEVENT
END:VCALENDAR