BEGIN:VCALENDAR
VERSION:2.0
PRODID:-//wp-events-plugin.com//7.2.3.1//EN
TZID:Europe/Luxembourg
X-WR-TIMEZONE:Europe/Luxembourg
BEGIN:VEVENT
UID:119@apis.lu
DTSTART:20221030T070000Z
DTEND:20221030T140000Z
DTSTAMP:20221020T090515Z
URL:https://apis.lu/events/letzebuerger-beiendag/
SUMMARY:Lëtzebuerger Beiendag
DESCRIPTION:organiséiert vum Escher Kantonalveräin. Jetzt gleich anmelden
 ! Siehe unten.\nViirlefeges Programm:\n09:00 Ouverture mat Kaffi a Croissa
 nt\n\n09:30 Begréissung vun den Invitéën a vun de Gäscht\n\n09:40 Virt
 rag Paul Goedert: Meine Betriebsweise\n\n11:00 Apéritif\n\n12:00 Mëttegi
 essen\n\n13:30 Virtrag Lieke Mewis: Auch Wespen sind Nützlinge\n\n14:15 V
 irtrag Arno Bruder: Die Gewinnung von Bienenprodukten und deren therapeuti
 sche Anwendungen\n\n15:45 Visite vun den Héichiewen vum Site Belval\n\n&n
 bsp\;\nUmëlleformulaire\n[contact-form-7 id="1074" title="Contact Form Be
 iendag 2022"]\n\n&nbsp\;\n\n&nbsp\;\n\n\n\n&nbsp\;
ATTACH;FMTTYPE=image/jpeg:https://apis.lu/wp-content/uploads/2022/10/Belva
 l_Heichuewen.jpg
CATEGORIES:Esch/Alzette,FUAL
LOCATION:Lycée Belval\, 100\, avenue du Blues\, Belvaux\, Esch/ Alzette\, 
 4368\, Luxemburg
X-APPLE-STRUCTURED-LOCATION;VALUE=URI;X-ADDRESS=100\, avenue du Blues\, Bel
 vaux\, Esch/ Alzette\, 4368\, Luxemburg;X-APPLE-RADIUS=100;X-TITLE=Lycée 
 Belval:geo:0,0
END:VEVENT
END:VCALENDAR