BEGIN:VCALENDAR
VERSION:2.0
PRODID:-//wp-events-plugin.com//7.2.3.1//EN
TZID:Europe/Luxembourg
X-WR-TIMEZONE:Europe/Luxembourg
BEGIN:VEVENT
UID:326@apis.lu
DTSTART;TZID=Europe/Luxembourg:20240308T190000
DTEND;TZID=Europe/Luxembourg:20240308T213000
DTSTAMP:20240219T103313Z
URL:https://apis.lu/events/generalversammlung-vom-cercle-apicole-redange-a
 ttert/
SUMMARY:Generalversammlung vom Cercle apicole Redange-Attert
DESCRIPTION:Programm:\n\n 	Usprooch vum President\, dem Här Michel COLLETT
 E\n 	Rapport vum Keessjee\, dem Här Paul CLAUDE \n 	Rapport vun de Keess-
 Kontrolleren\n 	Aktivitéitsrapport vum Sekretär\n 	Walen: Well eise Kees
 sjee Paul Claude no 10 Joer Déngscht ophält\, siche mir dringend en neie
   Keessjee. Mellt Iech wgl. nach bis an der Versammlung. Mir soen dem Pau
 l ower elo schonns villmools Merci.\n\n&nbsp\;\n\nDe Jean-Jacques Mertzig 
 an de Michel Collette schwätzen äis zum Thema:\n\n 	Beien an Naturschutz
 gebitter\n 	Wéi baut d’Bei?\n 	Wat fir eng Zellgréisst?\n 	Wéi moosst
  een eng Zell?\n\n&nbsp\;\n\n 	Fräi Aussprooch\n
ATTACH;FMTTYPE=image/jpeg:https://apis.lu/wp-content/uploads/2024/02/Logo-
 Redange.jpg
CATEGORIES:Assemblée generale,Redange
LOCATION:Beckericher Mühle\, 103\, Huewelerstrooss\, Beckerich\, 8521\, Lu
 xemburg
X-APPLE-STRUCTURED-LOCATION;VALUE=URI;X-ADDRESS=103\, Huewelerstrooss\, Bec
 kerich\, 8521\, Luxemburg;X-APPLE-RADIUS=100;X-TITLE=Beckericher Mühle:ge
 o:0,0
END:VEVENT
BEGIN:VTIMEZONE
TZID:Europe/Luxembourg
X-LIC-LOCATION:Europe/Luxembourg
BEGIN:STANDARD
DTSTART:20231029T020000
TZOFFSETFROM:+0200
TZOFFSETTO:+0100
TZNAME:CET
END:STANDARD
END:VTIMEZONE
END:VCALENDAR