BEGIN:VCALENDAR
VERSION:2.0
PRODID:-//wp-events-plugin.com//7.2.3.1//EN
TZID:Europe/Luxembourg
X-WR-TIMEZONE:Europe/Luxembourg
BEGIN:VEVENT
UID:632@apis.lu
DTSTART:20260307T150000Z
DTEND:20260307T170000Z
DTSTAMP:20260202T093241Z
URL:https://apis.lu/events/generalversammlung-kv-echternach-2026/
SUMMARY:Generalversammlung KV Echternach
DESCRIPTION:All eis Membere sinn heimat häerzlech op eis Generalversammlun
 g agelueden. Wéi dat schonn Traditioun ass\, zerwéiere mer als Ofgeschlo
 ss nees een Iessen fir eis Member.
ATTACH;FMTTYPE=image/jpeg:https://apis.lu/wp-content/uploads/2022/12/drohn
 eclub.png
CATEGORIES:Assemblée generale,Echternach
LOCATION:Hénkel am „Kulturhaff Millermoler“\, 13\, Rue de Girsterklaus
 \, Hénkel\, 6560\, Luxemburg
X-APPLE-STRUCTURED-LOCATION;VALUE=URI;X-ADDRESS=13\, Rue de Girsterklaus\, 
 Hénkel\, 6560\, Luxemburg;X-APPLE-RADIUS=100;X-TITLE=Hénkel am „Kultur
 haff Millermoler“:geo:0,0
END:VEVENT
END:VCALENDAR