BEGIN:VCALENDAR
VERSION:2.0
PRODID:-//wp-events-plugin.com//7.2.3.1//EN
TZID:Europe/Luxembourg
X-WR-TIMEZONE:Europe/Luxembourg
BEGIN:VEVENT
UID:82@apis.lu
DTSTART:20220521T000000Z
DTEND:20220521T000000Z
DTSTAMP:20220510T060829Z
URL:https://apis.lu/events/flotten-nometteg-mat-grillen-zu-blaaschent/
SUMMARY:Flotten Nomëtteg mat Grillen zu Blaaschent
DESCRIPTION:Thema: Kineginnenvermehrung\, Imkern mit Mini Plus\n\nLiebe Imk
 erkolleginnen und Kollegen\nDer Merscher Kantonalimkerverein lädt dich f
 ür Samstag\, 21. Mai\, ab 15 Uhr\, zu einem gemütlichen Nachmittag mit G
 rillen auf dem Bienenstand von Nico Turmes in Blaschette ein.\nBienenberat
 er Andreas Reichard macht uns an diesem Nachmittag mit der Königinnenzuch
 t bekannt\, mit allem was in Frage kommt.\nVorführung von Imkern in Mini-
 Plus.\nAnschließend ist für das leibliche Wohl gesorgt.\nAnmeldungen\, a
 us organisatorischen Gründen sind zu richten an Charles Witry bis spätes
 tens Samstag\, 14. Mai. Am besten sofort auf diese Mail antworten mit Anza
 hl der Teilnehmer.\nUm unsere Vereinskasse nicht übermäßig zu belasten 
 ist ein Unkostenbeitrag von 10 € (nicht überweisen) vorgesehen.\n!! Hon
 iggläser unbedingt vorbestellen !!\n!! Datum für Vereinsausflug ist 16. 
 Juli\, vormerken !!
CATEGORIES:Mersch,Praktesch Cours
LOCATION:Bienenstand Blaschette\, Rue de Wormeldange\, Blaschette (Lorenzwe
 iler)\, 7390\, Luxemburg
X-APPLE-STRUCTURED-LOCATION;VALUE=URI;X-ADDRESS=Rue de Wormeldange\, Blasch
 ette (Lorenzweiler)\, 7390\, Luxemburg;X-APPLE-RADIUS=100;X-TITLE=Bienenst
 and Blaschette:geo:0,0
END:VEVENT
END:VCALENDAR