BEGIN:VCALENDAR
VERSION:2.0
PRODID:-//wp-events-plugin.com//7.2.3.1//EN
TZID:Europe/Luxembourg
X-WR-TIMEZONE:Europe/Luxembourg
BEGIN:VEVENT
UID:108@apis.lu
DTSTART:20221020T000000Z
DTEND:20221023T000000Z
DTSTAMP:20220516T124140Z
URL:https://apis.lu/events/europaeischer-bienenzuechterkongress-beecome/
SUMMARY:Europäischer Bienenzüchterkongress BEECOME
DESCRIPTION:SAUVEGARDER LES ABEILLES ET L’APICULTURE : UN RÉEL DÉFI D
 ’AVENIR ! ». L’UNION NATIONALE DE L’APICULTURE FRANÇAISE ORGANIS
 E LE CONGRÈS EUROPÉEN DE L’APICULTURE « BEECOME »
LOCATION:Parc des exponisitions\, Parc des expositions\, Quimper\, Frankrei
 ch
X-APPLE-STRUCTURED-LOCATION;VALUE=URI;X-ADDRESS=Parc des expositions\, Quim
 per\, Frankreich;X-APPLE-RADIUS=100;X-TITLE=Parc des exponisitions:geo:0,0
END:VEVENT
END:VCALENDAR