BEGIN:VCALENDAR
VERSION:2.0
PRODID:-//wp-events-plugin.com//7.2.3.1//EN
TZID:Europe/Luxembourg
X-WR-TIMEZONE:Europe/Luxembourg
BEGIN:VEVENT
UID:10@apis.lu
DTSTART:20221118T183000Z
DTEND:20221118T213000Z
DTSTAMP:20220420T100035Z
URL:https://apis.lu/events/drohneclub/
SUMMARY:Drohneclub
DESCRIPTION:Et geet em “Hunnech schmaachen an Reckbleck 2022"
CATEGORIES:Echternach,Praktesch Cours
LOCATION:Hénkel am „Kulturhaff Millermoler“\, 13\, Rue de Girsterklaus
 \, Hénkel\, 6560\, Luxemburg
X-APPLE-STRUCTURED-LOCATION;VALUE=URI;X-ADDRESS=13\, Rue de Girsterklaus\, 
 Hénkel\, 6560\, Luxemburg;X-APPLE-RADIUS=100;X-TITLE=Hénkel am „Kultur
 haff Millermoler“:geo:0,0
END:VEVENT
END:VCALENDAR