BEGIN:VCALENDAR
VERSION:2.0
PRODID:-//wp-events-plugin.com//7.2.3.1//EN
TZID:Europe/Luxembourg
X-WR-TIMEZONE:Europe/Luxembourg
BEGIN:VEVENT
UID:493@apis.lu
DTSTART:20250330T090000Z
DTEND:20250330T120000Z
DTSTAMP:20250314T074841Z
URL:https://apis.lu/events/delegiertentagung-fual/
SUMMARY:Delegiertentagung FUAL
DESCRIPTION:Tagesordnung\n1. Begrüßung durch die Präsidentin der FUAL\n2
 . Feststellung der Anwesenheiten\n3. Tätigkeitsbericht 2024\n4. Finanzber
 icht 2024\n5. Stellungnahme des Aufsichtsrates\n6. Entlastung des Verwaltu
 ngsrates\n7. Budget 2025\n8. Anträge\n9. freie Posten (drei) im Aufsichts
 rat der FUAL\n10. Verschiedenes\n\n\nKandidaturen für den Aufsichtsrat si
 nd bis spätestens den 25. März 2025 schriftlich an die Präsidentin der 
 FUAL zu richten (Art.11 Statuten der FUAL)\nEventuelle Ersatzdelegierte si
 nd ausschließlich mit einer schriftlichen Vollmacht des jeweiligen Delegi
 erten\, den sie ersetzen\, zu den Abstimmungen zugelassen.
ATTACH;FMTTYPE=image/jpeg:https://apis.lu/wp-content/uploads/2022/03/fual-
 logo.svg
CATEGORIES:Assemblée generale,FUAL
LOCATION:Restaurant A Guddesch\, 1\, am Kaesch\, Beringen\, 7593\, Luxembur
 g
X-APPLE-STRUCTURED-LOCATION;VALUE=URI;X-ADDRESS=1\, am Kaesch\, Beringen\, 
 7593\, Luxemburg;X-APPLE-RADIUS=100;X-TITLE=Restaurant A Guddesch:geo:0,0
END:VEVENT
END:VCALENDAR