BEGIN:VCALENDAR
VERSION:2.0
PRODID:-//wp-events-plugin.com//7.2.3.1//EN
TZID:Europe/Luxembourg
X-WR-TIMEZONE:Europe/Luxembourg
BEGIN:VEVENT
UID:124@apis.lu
DTSTART:20221020T220000Z
DTEND:20221022T220000Z
DTSTAMP:20220909T170611Z
URL:https://apis.lu/events/berufsimkertagung-eurobee/
SUMMARY:Berufsimkertagung EUROBEE
DESCRIPTION:https://berufsimker.de/veranstaltungen/eurobee/
CATEGORIES:FUAL
LOCATION:Messe Friedrichshafen\, Neue Messe 1\, Friedrichshafen\, 88046\, D
 eutschland
X-APPLE-STRUCTURED-LOCATION;VALUE=URI;X-ADDRESS=Neue Messe 1\, Friedrichsha
 fen\, 88046\, Deutschland;X-APPLE-RADIUS=100;X-TITLE=Messe Friedrichshafen
 :geo:0,0
END:VEVENT
END:VCALENDAR