BEGIN:VCALENDAR
VERSION:2.0
PRODID:-//wp-events-plugin.com//7.2.3.1//EN
TZID:Europe/Luxembourg
X-WR-TIMEZONE:Europe/Luxembourg
BEGIN:VEVENT
UID:125@apis.lu
DTSTART:20221021T170000Z
DTEND:20221021T193000Z
DTSTAMP:20221017T133938Z
URL:https://apis.lu/events/ausserordentliche-mitgliederversammlung-mit-vor
 standswahl/
SUMMARY:Außerordentliche Mitgliederversammlung mit Vorstandswahl
DESCRIPTION:Vorgeschlagene Tagesordnung:\n\n 	\n\n 	\n\n 	\n\n 	1. Eröffnu
 ng der Versammlung durch den Versammlungsleiter\n 	2. Neuwahl des Vorstand
 es\n 	3. Verschiedenes\n\n\n\nWir möchten Sie bitten ihre Kandidatur für
  die Wahl des Vorstandes über folgende Emailadresse anzumelden josnico@pt
 .lu  oder per Telefon 691 869 508 ( Nicolas Josselin).\n\n\n\n&nbsp\;\n\n
 Nicolas Josselin\, Patrick Schweitzer\, Georges Guirsch
ATTACH;FMTTYPE=image/jpeg:https://apis.lu/wp-content/uploads/2022/10/1024p
 x-Tutschemillen_Wiltz_Luxembourg_01.jpg
CATEGORIES:Assemblée generale,Wiltz
LOCATION:„Beieschoul Woltz“ auf der Tutschemillen (Weidingen)\, Rue du 
 village\, Weidingen\, 9576\, Luxemburg
X-APPLE-STRUCTURED-LOCATION;VALUE=URI;X-ADDRESS=Rue du village\, Weidingen\
 , 9576\, Luxemburg;X-APPLE-RADIUS=100;X-TITLE=„Beieschoul Woltz“ auf d
 er Tutschemillen (Weidingen):geo:0,0
END:VEVENT
END:VCALENDAR