BEGIN:VCALENDAR
VERSION:2.0
PRODID:-//wp-events-plugin.com//7.2.3.1//EN
TZID:Europe/Luxembourg
X-WR-TIMEZONE:Europe/Luxembourg
BEGIN:VEVENT
UID:13@apis.lu
DTSTART;VALUE=DATE:20220901
DTEND;VALUE=DATE:20220905
DTSTAMP:20220721T093718Z
URL:https://apis.lu/events/91-imkerkongress-brixen-2022-biene-trifft-zukun
 ft/
SUMMARY:91. Imkerkongress Brixen 2022 „Biene trifft Zukunft“
DESCRIPTION:Weitere Informationen zu Unterkunft\, Programm und Anmeldung fi
 nden Sie hier.\n\nDie FUAL plant die An- und Abreise mit einem gemeinsamen
  Bus zu organisieren. Wenn Sie mitfahren wollen\, melden Sie sich bitte be
 im FUAL- Sekretär an.\n\n&nbsp\;
ATTACH;FMTTYPE=image/jpeg:https://apis.lu/wp-content/uploads/2022/04/img-w
 ichtige-termine-imkerkongress-2022-logo-600-241.jpg
CATEGORIES:FUAL
LOCATION:Sportzone Süd Brixen\, Fischzuchtweg 21\, Brixen\, 39042\, Italie
 n
X-APPLE-STRUCTURED-LOCATION;VALUE=URI;X-ADDRESS=Fischzuchtweg 21\, Brixen\,
  39042\, Italien;X-APPLE-RADIUS=100;X-TITLE=Sportzone Süd Brixen:geo:0,0
END:VEVENT
END:VCALENDAR